Workbook
Name Acquisition_Date: '[1]Deal Inputs'!$C$12
Name AnoOrçamento: #REF!
Name AnoOrçamento: #REF!
Name AP_COFINS: '[1]Deal Inputs'!$C$42
Name AP_CSLL: '[1]Deal Inputs'!$C$45
Name AP_PIS: '[1]Deal Inputs'!$C$41
Name arq: #REF!
Name arq: #REF!
Name arq: #REF!
Name assunto: #REF!
Name assunto: #REF!
Name Broker_fee: '[1]Deal Inputs'!$C$13
Name BTS_SLB: '[1]Deal Inputs'!$B$4
Name Capex: '[1]Deal Inputs'!$C$27
Name Capital_Gains: '[1]Deal Inputs'!$G$34
Name carencia: [2]cálculos!$G$10
Name Construction_Total: '[1]Purchase installments'!#REF!
Name Construction_Total: '[1]Purchase installments'!#REF!
Name Construction_Total: '[1]Purchase installments'!#REF!
Name DadosExternos_10: #REF!
Name DadosExternos_9: #REF!
Name danalise: [3]PAINEL!$B$4
Name danalise: [3]PAINEL!$B$4
Name danalise: [4]PAINEL!$B$4
Name dbase: [3]PAINEL!$B$5
Name dbase: [3]PAINEL!$B$5
Name dbase: [4]PAINEL!$B$5
Name Debt_Rate: '[1]Deal Inputs'!$G$11
Name destinatarios: #REF!
Name destinatarios: #REF!
Name dias: [5]Feriados!#REF!
Name dias: [5]Feriados!#REF!
Name dias: [5]Feriados!#REF!
Name DP_COFINS: '[1]Deal Inputs'!$D$42
Name DP_CSLL: '[1]Deal Inputs'!$D$45
Name DP_PIS: '[1]Deal Inputs'!$D$41
Name Equity_Payments: '[1]Deal Inputs'!#REF!
Name Equity_Payments: '[1]Deal Inputs'!#REF!
Name Equity_Payments: '[1]Deal Inputs'!#REF!
Name Exit_Cap_Rate: '[1]Deal Inputs'!$C$10
Name Exit_Year: '[1]Deal Inputs'!$C$11
Name FCF: [1]DealSum!$O$52
Name Feriados: [5]Feriados!$A$2:$A$937
Name Foreign_investor_withholding: '[1]Deal Inputs'!$G$36
Name Going_In_Cap_Rate: '[1]Deal Inputs'!$C$22
Name Inflation: '[1]Deal Inputs'!$C$16
Name IOF: '[1]Deal Inputs'!$C$38
Name ITBI: '[1]Deal Inputs'!$C$36
Name Juros_CRI: '[5]5ª Serie (Senior)'!$C$13
Name Land_Cost: [1]PropSummary!$L$37
Name Lease_Payment: '[1]Deal Inputs'!$C$31
Name LTV: '[1]Deal Inputs'!$G$13
Name mensagem: #REF!
Name mensagem: #REF!
Name New_Debt: '[1]Deal Inputs'!$G$10
Name Percent_Sold: '[1]Deal Inputs'!$G$13
Name prz_total: [2]cálculos!$D$8
Name Qtd_CRI: '[5]5ª Serie (Senior)'!$C$9
Name Refinance: '[1]Deal Inputs'!$G$17
Name reporte: #REF!

Sheet Capa
A2: 79ªE CRI Real Park 06/2024
B14: CRI

Sheet Demonstrativo_Pagamento
A1: Relatório Mensal
A2: 79ªE CRI Real Park 05/2025
A3: RESUMO | I3: AGENDA DE EVENTOS
B5: Série 1 | C5: Série 2 | D5: Série 3 | E5: Série 4 | F5: Série 5 | I5: Próx. Pagamentos | J5: Data | K5: Total
A6: Código CETIP | B6: 24C1528390 | C6: 24C1528956 | D6: 24C1529129 | E6: 24C1530964 | F6: 24C1534067 | I6: PMT | J6: 45809 | K6: 303215.16
A7: Código ISIN | B7: BRCASCCRI2J5 | C7: BRCASCCRI2K3 | D7: BRCASCCRI2L1 | E7: BRCASCCRI2M9 | F7: BRCASCCRI2N7 | I7: Despesas recorrentes | J7: 45809 | K7: 26763.51
A8: Emissão | B8: 79 | C8: 79 | D8: 79 | E8: 79 | F8: 79
A9: Oferta | B9: R160 | C9: R160 | D9: R160 | E9: R160 | F9: R160
A10: Classe | B10: Sênior | C10: Sênior | D10: Sênior | E10: Sênior | F10: Sênior | I10: RESUMO CARTEIRA
A11: Concentração | B11: Concentrado | C11: Concentrado | D11: Concentrado | E11: Concentrado | F11: Concentrado
A12: Agente fiduciário | B12: TRUSTEE DTVM | C12: TRUSTEE DTVM | D12: TRUSTEE DTVM | E12: TRUSTEE DTVM | F12: TRUSTEE DTVM | I12: Recebimento | J12: Adimplência (%) | K12: Total
A13: Série | B13: 1 | C13: 2 | D13: 3 | E13: 4 | F13: 5 | I13: Antecipado | J13: =Informacoes_Carteira!H8 -> 0 | K13: =Informacoes_Carteira!G8 -> 0
A14: Categoria | B14: CRI | C14: CRI | D14: CRI | E14: CRI | F14: CRI | I14: Adimplente | J14: =Informacoes_Carteira!C11 -> 0 | K14: =Informacoes_Carteira!C10 -> 0
A15: Data emissão | B15: 45363 | C15: 45363 | D15: 45363 | E15: 45363 | F15: 45363 | I15: Atraso | J15: =Informacoes_Carteira!N8 -> 0 | K15: =Informacoes_Carteira!M8 -> 0
A16: Segmento | B16: Residencial | C16: Residencial | D16: Residencial | E16: Residencial | F16: Residencial
A17: Data vencimento | B17: 46828 | C17: 46828 | D17: 46828 | E17: 46828 | F17: 46828
A18: Quantidade | B18: 17800 | C18: 5000 | D18: 6000 | E18: 6000 | F18: 6000 | I18: Em Aberto | J18: Adimplência (%) | K18: Total
A19: Lastro | B19: Notas Comerciais | C19: Notas Comerciais | D19: Notas Comerciais | E19: Notas Comerciais | F19: Notas Comerciais | I19: Inadimplência | J19: - | K19: =Informacoes_Carteira!B32 -> 0
A20: Remuneração | B20: IPCA + 12,6825% | C20: IPCA + 12,6825% | D20: IPCA + 12,6825% | E20: IPCA + 12,6825% | F20: IPCA + 12,6825% | I20: Saldo devedor | J20: - | K20: =RESUMO_ACOMPANHAMENTO_MENSAL!D2 -> 0
A21: Quantidade Integralizada | B21: 17800 | C21: 5000 | D21: 423 | E21: 0 | F21: 0
A23: PAGAMENTOS
B25: Série 1 | D25: Série 2 | F25: Série 3 | H25: Série 4 | J25: Série 5
A26: Consolidado | B26: Total | C26: Unitário | D26: Total | E26: Unitário | F26: Total | G26: Unitário | H26: Total | I26: Unitário | J26: Total | K26: Unitário
A27: Saldo devedor antes do pagamento | B27: =IFERROR(C27*B$21,0) -> 17875312 | C27: 1004.231 | D27: =IFERROR(E27*C$21,0) -> 5045365.8 | E27: 1009.0732 | F27: =IFERROR(G27*D$21,0) -> 427936.09 | G27: 1011.6692 | H27: =IFERROR(I27*E$21,0) -> 0 | I27: 0 | J27: =IFERROR(K27*F$21,0) -> 0 | K27: =K32+K31 -> 0
A28: Amortização do mês (a) | B28: =IFERROR(C28*B$21,0) -> 0 | C28: 0 | D28: =IFERROR(E28*C$21,0) -> 0 | E28: 0 | F28: =IFERROR(G28*D$21,0) -> 0 | G28: 0 | H28: =IFERROR(I28*E$21,0) -> 0 | I28: 0 | J28: =IFERROR(K28*F$21,0) -> 0 | K28: 0
A29: Juros do mês (b) | B29: =IFERROR(C29*B$21,0) -> 160203.47 | C29: 9.0001947 | D29: =IFERROR(E29*C$21,0) -> 45217.957 | E29: 9.0435914 | F29: =IFERROR(G29*D$21,0) -> 3835.281 | G29: 9.0668582 | H29: =IFERROR(I29*E$21,0) -> 0 | I29: 0 | J29: =IFERROR(K29*F$21,0) -> 0 | K29: 0
A30: Amortização Extraordinária (c) | B30: =IFERROR(C30*B$21,0) -> 0 | C30: 0 | D30: =IFERROR(E30*C$21,0) -> 0 | E30: 0 | F30: =IFERROR(G30*D$21,0) -> 0 | G30: 0 | H30: =IFERROR(I30*E$21,0) -> 0 | I30: 0 | J30: =IFERROR(K30*F$21,0) -> 0 | K30: 0
A31: PMT (a+b+c) | B31: =IFERROR(C31*B$21,0) -> 160203.47 | C31: =C28+C29+C30 -> 9.0001947 | D31: =IFERROR(E31*C$21,0) -> 45217.957 | E31: =E28+E29+E30 -> 9.0435914 | F31: =IFERROR(G31*D$21,0) -> 3835.281 | G31: =G28+G29+G30 -> 9.0668582 | H31: =IFERROR(I31*E$21,0) -> 0 | I31: 0 | J31: =IFERROR(K31*F$21,0) -> 0 | K31: =K28+K29+K30 -> 0
A32: Saldo devedor após pagamento | B32: =IFERROR(C32*B$21,0) -> 17715109 | C32: 995.23082 | D32: =IFERROR(E32*C$21,0) -> 5000147.9 | E32: 1000.0296 | F32: =IFERROR(G32*D$21,0) -> 424100.81 | G32: 1002.6024 | H32: =IFERROR(I32*E$21,0) -> 0 | I32: 0 | J32: =IFERROR(K32*F$21,0) -> 0 | K32: 0 | P32: =IFERROR(O32/O$35,0) -> 0
A33: Saldo no último d.u | B33: =IFERROR(C33*B$21,0) -> 17834000 | C33: 1001.9101 | D33: =IFERROR(E33*C$21,0) -> 5033705.5 | E33: 1006.7411 | F33: =IFERROR(G33*D$21,0) -> 426947.09 | G33: 1009.3312 | H33: =IFERROR(I33*E$21,0) -> 0 | I33: 0 | J33: =IFERROR(K33*F$21,0) -> 0 | K33: 0 | P33: =IFERROR(O33/O$35,0) -> 0
P34: =IFERROR(O34/O$35,0) -> 0
A36: GARANTIAS | F36: SALDO DE CONTA E APLICAÇÕES VINCULADAS
B38: Limite Mínimo | C38: Razão (%) | D38: Status | F38: Saldos finais em: | G38: 45807 | I38: Aplicação/Fundo:
A39: Fundo de Reserva | B39: =(B31+D31+F31)*3 -> 627770.11 | C39: N/A | D39: =IF(J39<B39,"Desenquadrado","Enquadrado") -> Desenquadrado | F39: Centralizada: | G39: 19999.47 | I39: Reserva | J39: 1.04
A40: Fundo de Despesa | B40: =K7 -> 26763.51 | C40: N/A | D40: =IF(J40<B40,"Desenquadrado","Enquadrado") -> Enquadrado | I40: Despesas | J40: 66337.7
A41: Razão de Garantia | B41: N/A | C41: 2.0173 | D41: Enquadrado | I41: Obras | J41: 33.62
A42: Delta Patrimônio Máximo Líquido Anual | B42: N/A | C42: N/A | D42: N/A | I42: Despesas Flat | J42: 46407.95

Sheet Informacoes_Carteira
A1: Relatório Mensal
B2: =Demonstrativo_Pagamento!A2 -> 79ªE CRI Real Park 05/2025
A5: INFORMAÇÕES DA CARTEIRA
A7: Recebimentos : Mês
E8: Parcelas antecipadas | G8: =G16 -> 0 | H8: =IFERROR(G8/B12,0) -> 0 | K8: Parcelas em atraso | M8: =M16 -> 0 | N8: =IFERROR(M8/B12,0) -> 0
B9: Total Previsto³: | C9: Parcelas adimplentes (em dia) | E9: Faixas (dias) | F9: Qtde. | G9: Valor R$ | H9: % | K9: Faixas (dias) | L9: Qtde. | M9: Valor R$ | N9: %
B10: =RESUMO_ACOMPANHAMENTO_MENSAL!L2 -> 0 | C10: ='Relatório Analítico'!D5 -> 0 | E10: Até 30 | F10: ='Relatório Analítico'!C9 -> 0 | G10: ='Relatório Analítico'!D9 -> 0 | H10: =IFERROR(((G10/G$16)*100),0) -> 0 | K10: Até 30 | L10: ='Relatório Analítico'!C22 -> 0 | M10: ='Relatório Analítico'!D22 -> 0 | N10: =IFERROR(((M10/M$16)*100),0) -> 0
B11: Total recebido: | C11: =IFERROR(C10/B12,0) -> 0 | E11: Até 60 | F11: ='Relatório Analítico'!C10 -> 0 | G11: ='Relatório Analítico'!D10 -> 0 | H11: =IFERROR(((G11/G$16)*100),0) -> 0 | K11: Até 60 | L11: ='Relatório Analítico'!C23 -> 0 | M11: ='Relatório Analítico'!D23 -> 0 | N11: =IFERROR(((M11/M$16)*100),0) -> 0
B12: ='Relatório Analítico'!D35 -> 0 | E12: Até 90 | F12: ='Relatório Analítico'!C11 -> 0 | G12: ='Relatório Analítico'!D11 -> 0 | H12: =IFERROR(((G12/G$16)*100),0) -> 0 | K12: Até 90 | L12: ='Relatório Analítico'!C24 -> 0 | M12: ='Relatório Analítico'!D24 -> 0 | N12: =IFERROR(((M12/M$16)*100),0) -> 0
E13: Até 120 | F13: ='Relatório Analítico'!C12 -> 0 | G13: ='Relatório Analítico'!D12 -> 0 | H13: =IFERROR(((G13/G$16)*100),0) -> 0 | K13: Até 120 | L13: ='Relatório Analítico'!C25 -> 0 | M13: ='Relatório Analítico'!D25 -> 0 | N13: =IFERROR(((M13/M$16)*100),0) -> 0
E14: Até 180 | F14: ='Relatório Analítico'!C13 -> 0 | G14: ='Relatório Analítico'!D13 -> 0 | H14: =IFERROR(((G14/G$16)*100),0) -> 0 | K14: Até 180 | L14: ='Relatório Analítico'!C26 -> 0 | M14: ='Relatório Analítico'!D26 -> 0 | N14: =IFERROR(((M14/M$16)*100),0) -> 0
E15: Maior que 180 | F15: ='Relatório Analítico'!C14 -> 0 | G15: ='Relatório Analítico'!D14 -> 0 | H15: =IFERROR(((G15/G$16)*100),0) -> 0 | K15: Maior que 180 | L15: ='Relatório Analítico'!C27 -> 0 | M15: ='Relatório Analítico'!D27 -> 0 | N15: =IFERROR(((M15/M$16)*100),0) -> 0
E16: Total | F16: =SUM(F10:F15) -> 0 | G16: =SUM(G10:G15) -> 0 | H16: =SUM(H10:H15) -> 0 | K16: Total | L16: =SUM(L10:L15) -> 0 | M16: =SUM(M10:M15) -> 0 | N16: =SUM(N10:N15) -> 0
A18: Recebimentos : Histórico
E19: Parcelas antecipadas | G19: =G27 -> 0 | H19: =IFERROR(G19/B22,0) -> 0 | K19: Parcelas em atraso | M19: =M27 -> 0 | N19: =IFERROR(M19/B22,0) -> 0
C20: Parcelas adimplentes (em dia) | E20: Faixas (dias) | F20: Qtde. | G20: Valor R$ | H20: % | K20: Faixas (dias) | L20: Qtde. | M20: Valor R$ | N20: %
B21: Total recebido: | C21: =IFERROR('Relatório Analítico'!D73,0) -> 0 | E21: Até 30 | F21: ='Relatório Analítico'!C77 -> 0 | G21: ='Relatório Analítico'!D77 -> 0 | H21: =IFERROR(((G21/G$27)*100),0) -> 0 | K21: Até 30 | L21: ='Relatório Analítico'!C90 -> 0 | M21: ='Relatório Analítico'!D90 -> 0 | N21: =IFERROR(((M21/M$27)*100),0) -> 0
B22: =C21+G19+M19 -> 0 | C22: =IFERROR(C21/B22,0) -> 0 | E22: Até 60 | F22: ='Relatório Analítico'!C78 -> 0 | G22: ='Relatório Analítico'!D78 -> 0 | H22: =IFERROR(((G22/G$27)*100),0) -> 0 | K22: Até 60 | L22: ='Relatório Analítico'!C91 -> 0 | M22: ='Relatório Analítico'!D91 -> 0 | N22: =IFERROR(((M22/M$27)*100),0) -> 0
E23: Até 90 | F23: ='Relatório Analítico'!C79 -> 0 | G23: ='Relatório Analítico'!D79 -> 0 | H23: =IFERROR(((G23/G$27)*100),0) -> 0 | K23: Até 90 | L23: ='Relatório Analítico'!C92 -> 0 | M23: ='Relatório Analítico'!D92 -> 0 | N23: =IFERROR(((M23/M$27)*100),0) -> 0
E24: Até 120 | F24: ='Relatório Analítico'!C80 -> 0 | G24: ='Relatório Analítico'!D80 -> 0 | H24: =IFERROR(((G24/G$27)*100),0) -> 0 | K24: Até 120 | L24: ='Relatório Analítico'!C93 -> 0 | M24: ='Relatório Analítico'!D93 -> 0 | N24: =IFERROR(((M24/M$27)*100),0) -> 0
E25: Até 180 | F25: ='Relatório Analítico'!C81 -> 0 | G25: ='Relatório Analítico'!D81 -> 0 | H25: =IFERROR(((G25/G$27)*100),0) -> 0 | K25: Até 180 | L25: ='Relatório Analítico'!C94 -> 0 | M25: ='Relatório Analítico'!D94 -> 0 | N25: =IFERROR(((M25/M$27)*100),0) -> 0
E26: Maior que 180 | F26: ='Relatório Analítico'!C82 -> 0 | G26: ='Relatório Analítico'!D82 -> 0 | H26: =IFERROR(((G26/G$27)*100),0) -> 0 | K26: Maior que 180 | L26: ='Relatório Analítico'!C95 -> 0 | M26: ='Relatório Analítico'!D95 -> 0 | N26: =IFERROR(((M26/M$27)*100),0) -> 0
E27: Total | F27: =SUM(F21:F26) -> 0 | G27: =SUM(G21:G26) -> 0 | H27: =SUM(H21:H26) -> 0 | K27: Total | L27: =SUM(L21:L26) -> 0 | M27: =SUM(M21:M26) -> 0 | N27: 100
E29: Inadimplência | K29: Estoque
E30: Parcelas inadimplentes | G30: =G38 -> 0 | K30: Status | M30: Unidades | N30: %
B31: Total: | E31: Faixas (dias) | F31: Qtde. | G31: Valor R$ | H31: % | K31: Estoque | M31: 0 | N31: =IFERROR(M31/M$34,0) -> 0
B32: =G38 -> 0 | E32: Até 30 | F32: ='Relatório Analítico'!C59 -> 0 | G32: ='Relatório Analítico'!D59 -> 0 | H32: =IFERROR(((G32/G$38)*100),0) -> 0 | K32: Vendidas | M32: 0 | N32: =IFERROR(M32/M$34,0) -> 0
E33: Até 60 | F33: ='Relatório Analítico'!C60 -> 0 | G33: ='Relatório Analítico'!D60 -> 0 | H33: =IFERROR(((G33/G$38)*100),0) -> 0 | K33: Distratadas | M33: 0 | N33: =IFERROR(M33/M$34,0) -> 0
E34: Até 90 | F34: ='Relatório Analítico'!C61 -> 0 | G34: ='Relatório Analítico'!D61 -> 0 | H34: =IFERROR(((G34/G$38)*100),0) -> 0 | K34: Total | M34: =SUM(M31:M33) -> 0 | N34: =SUM(N31:N33) -> 0
E35: Até 120 | F35: ='Relatório Analítico'!C62 -> 0 | G35: ='Relatório Analítico'!D62 -> 0 | H35: =IFERROR(((G35/G$38)*100),0) -> 0
E36: Até 180 | F36: ='Relatório Analítico'!C63 -> 0 | G36: ='Relatório Analítico'!D63 -> 0 | H36: =IFERROR(((G36/G$38)*100),0) -> 0
E37: Maior que 180 | F37: ='Relatório Analítico'!C64 -> 0 | G37: ='Relatório Analítico'!D64 -> 0 | H37: =IFERROR(((G37/G$38)*100),0) -> 0
E38: Total | F38: =SUM(F32:F37) -> 0 | G38: =SUM(G32:G37) -> 0 | H38: =SUM(H32:H37) -> 0
B40: 3. "Total Previsto para o mês” é todo valor considerando o período de 01/11/2024 à 30/11/2024.
B41: 3. "Total Previsto para o mês” é todo valor considerando o período de 01/07/2024 à 31/07/2024.

Sheet Informacao ao Investidor

Sheet Garantias
A1: Relatório Mensal
A2: =Demonstrativo_Pagamento!A2 -> 79ªE CRI Real Park 05/2025
A5: GARANTIAS
B7: Fundo de Despesa | C7: 45658 | G7: Minimo | J7: 60000 | K7: =J7-C8 -> 60000
B8: (a) Saldo | C8: 0 | G8: Razão de garantia atual % (a/e): | J8: N/A
B9: (b) | C9: 0
B10: (c) | C10: 0 | G10: Situação da Razão: | J10: Desenquadrado
B11: (d) | C11: 0
B15: Fundo de Reserva | C15: =C7 -> 45658 | G15: Minimo | J15: 428045.63
B16: (a) Saldo | C16: 0 | G16: Razão de garantia atual % (a/e): | J16: N/A
B17: (b) | C17: 0
B18: (c) | C18: 0 | G18: Situação da Razão: | J18: Enquadrado
B19: (d) | C19: 0
B22: Indice de despesa Máximo Anual | C22: =C7 -> 45658 | G22: Minimo | J22: 45000000
B23: (a) Empréstimo e Financiamentos Circulante | C23: 1 | G23: Razão de garantia atual % (a/e): | J23: N/A
B24: (b) Empréstimo e Financiamentos Não Circulante | C24: 1
B25: (c) | C25: 0 | G25: Situação da Razão: | J25: Enquadrado
B26: (d) | C26: 0
B29: Delta Patrimônio Máximo Líquido Anual | C29: =C7 -> 45658 | G29: Minimo | J29: -0.2
B30: (a) PL Ano passado | C30: 1 | G30: Razão de garantia atual % (a/e): | J30: 0
B31: (b) PL Atual | C31: 1
B32: (c) | C32: 0 | G32: Situação da Razão: | J32: Enquadrado
B33: (d) | C33: 0
C36: =C7 -> 45658 | G36: Minimo
B37: (a) Saldo | C37: 0 | G37: Razão de garantia atual % (a/e):
B38: (b) | C38: 0
B39: (c) | C39: 0 | G39: Situação da Razão:
B40: (d) | C40: 0
G43: Minimo
B44: (a) Saldo | C44: 0 | G44: Razão de garantia atual % (a/e):
B45: (b) | C45: 0
B46: (c) | C46: 0 | G46: Situação da Razão:
B47: (d) | C47: 0
G50: Minimo
B51: (a) Saldo | C51: 0 | G51: Razão de garantia atual % (a/e):
B52: (b) | C52: 0
B53: (c) | C53: 0 | G53: Situação da Razão:
B54: (d) | C54: 0
G57: Minimo
B58: (a) Saldo | C58: 0 | G58: Razão de garantia atual % (a/e):
...

Sheet Relatório Analítico
A1: Data Fechamento | B1: 45443
B3: Recebimento Regular (em dia)1
A5: Recebimento RegularRecebimento Regular | B5: Até 5 | C5: =IFERROR(VLOOKUP($A5,$G:$J,3,0),0) -> 0 | D5: =IFERROR(VLOOKUP($A5,$G:$J,4,0),0) -> 0
B7: Antecipação (em dias)²
A9: AntecipacaoAté 15 | B9: Até 30 | C9: =IFERROR(VLOOKUP($A9,$G:$J,3,0),0)+IFERROR(VLOOKUP($A10,$G:$J,3,0),0) -> 0 | D9: =IFERROR(VLOOKUP($A9,$G:$J,4,0),0)+IFERROR(VLOOKUP($A10,$G:$J,4,0),0) -> 0
A10: AntecipacaoEntre 15 e 30 | B10: Até 60 | C10: =IFERROR(VLOOKUP($A11,$G:$J,3,0),0) -> 0 | D10: =IFERROR(VLOOKUP($A11,$G:$J,4,0),0) -> 0
A11: AntecipacaoEntre 30 e 60 | B11: Até 90 | C11: =IFERROR(VLOOKUP($A12,$G:$J,3,0),0) -> 0 | D11: =IFERROR(VLOOKUP($A12,$G:$J,4,0),0) -> 0
A12: AntecipacaoEntre 60 e 90 | B12: Até 120 | C12: =IFERROR(VLOOKUP($A13,$G:$J,3,0),0) -> 0 | D12: =IFERROR(VLOOKUP($A13,$G:$J,4,0),0) -> 0
A13: AntecipacaoEntre 90 e 120 | B13: Até 180 | C13: =IFERROR(VLOOKUP($A15,$G:$J,3,0),0) -> 0 | D13: =IFERROR(VLOOKUP($A14,$G:$J,4,0),0)+IFERROR(VLOOKUP($A15,$G:$J,4,0),0) -> 0
A14: AntecipacaoEntre 120 e 150 | B14: Maior que 180 | C14: =IFERROR(VLOOKUP(#REF!,$G:$J,3,0),0)+IFERROR(VLOOKUP($A16,$G:$J,3,0),0) -> 0 | D14: =IFERROR(VLOOKUP(B16,$G:$J,4,0),0)+IFERROR(VLOOKUP($A16,$G:$J,4,0),0) -> 0
A15: AntecipacaoEntre 150 e 180
A16: AntecipacaoEntre 180 e 360 | B16: AntecipacaoSuperior a 360
B17: Total em antecipação | D17: =SUM(D8:D15) -> 0
B19: Recebimento em Atraso (em dias)³
A21: AtrasoAté 15
A22: AtrasoEntre 15 e 30 | B22: Até 30 | C22: =IFERROR(VLOOKUP($A22,$G:$J,3,0),0)+IFERROR(VLOOKUP($A21,$G:$J,3,0),0) -> 0 | D22: =IFERROR(VLOOKUP($A22,$G:$J,4,0),0)+IFERROR(VLOOKUP($A21,$G:$J,4,0),0) -> 0
A23: AtrasoEntre 30 e 60 | B23: Até 60 | C23: =IFERROR(VLOOKUP($A23,$G:$J,3,0),0) -> 0 | D23: =IFERROR(VLOOKUP($A23,$G:$J,4,0),0) -> 0
A24: AtrasoEntre 60 e 90 | B24: Até 90 | C24: =IFERROR(VLOOKUP($A24,$G:$J,3,0),0) -> 0 | D24: =IFERROR(VLOOKUP($A24,$G:$J,4,0),0) -> 0
A25: AtrasoEntre 90 e 120 | B25: Até 120 | C25: =IFERROR(VLOOKUP($A25,$G:$J,3,0),0) -> 0 | D25: =IFERROR(VLOOKUP($A25,$G:$J,4,0),0) -> 0
A26: AtrasoEntre 120 e 150 | B26: Até 180 | C26: =IFERROR(VLOOKUP($A26,$G:$J,3,0),0)+IFERROR(VLOOKUP($A27,$G:$J,3,0),0) -> 0 | D26: =IFERROR(VLOOKUP($A26,$G:$J,4,0),0)+IFERROR(VLOOKUP($A27,$G:$J,4,0),0) -> 0
A27: AtrasoEntre 150 e 180 | B27: Maior que 180 | C27: =IFERROR(VLOOKUP($B27,$G:$J,3,0),0)+IFERROR(VLOOKUP($A27,$G:$J,3,0),0) -> 0 | D27: =IFERROR(VLOOKUP($B28,$G:$J,4,0),0)+IFERROR(VLOOKUP($A28,$G:$J,4,0),0) -> 0
A28: AtrasoSuperior a 360 | B28: AtrasoEntre 180 e 360
B29: Total recebido em Atraso | D29: =SUM(D20:D28) -> 0
B35: Total Recebido (1+2+3): | D35: =D5+D17+D29 -> 0
B36: Parcelas antecipadas | D36: =D17/D35 -> #DIV/0!
B37: Parcelas em atraso | D37: =D29/D35 -> #DIV/0!
B38: Parcelas adimplentes (em dia) | D38: =D5/D35 -> #DIV/0!
B39: 2. Saldo devedor (trazido a valor presente pela taxa da Cessão)
A41: SALDO_DEVEDOEm dia | B41: Em Dia | C41: =IFERROR(VLOOKUP($A41,$G:$J,3,0),0) -> 0 | D41: =IFERROR(VLOOKUP($A41,$G:$J,4,0),0) -> 0
A42: SALDO_DEVEDOAté 15 | B42: Até 15 | C42: =IFERROR(VLOOKUP($A42,$G:$J,3,0),0) -> 0 | D42: =IFERROR(VLOOKUP($A42,$G:$J,4,0),0) -> 0
A43: SALDO_DEVEDOEntre 15 e 30 | B43: Entre 15 e 30 | C43: =IFERROR(VLOOKUP($A43,$G:$J,3,0),0) -> 0 | D43: =IFERROR(VLOOKUP($A43,$G:$J,4,0),0) -> 0
A44: SALDO_DEVEDOEntre 30 e 60 | B44: Entre 30 e 60 | C44: =IFERROR(VLOOKUP($A44,$G:$J,3,0),0) -> 0 | D44: =IFERROR(VLOOKUP($A44,$G:$J,4,0),0) -> 0
A45: SALDO_DEVEDOEntre 60 e 90 | B45: Entre 60 e 90 | C45: =IFERROR(VLOOKUP($A45,$G:$J,3,0),0) -> 0 | D45: =IFERROR(VLOOKUP($A45,$G:$J,4,0),0) -> 0
A46: SALDO_DEVEDOEntre 90 e 120 | B46: Entre 90 e 120 | C46: =IFERROR(VLOOKUP($A46,$G:$J,3,0),0) -> 0 | D46: =IFERROR(VLOOKUP($A46,$G:$J,4,0),0) -> 0
A47: SALDO_DEVEDOEntre 120 e 150 | B47: Entre 120 e 150 | C47: =IFERROR(VLOOKUP($A47,$G:$J,3,0),0) -> 0 | D47: =IFERROR(VLOOKUP($A47,$G:$J,4,0),0) -> 0
A48: SALDO_DEVEDOEntre 150 e 180 | B48: Entre 150 e 180 | C48: =IFERROR(VLOOKUP($A48,$G:$J,3,0),0) -> 0 | D48: =IFERROR(VLOOKUP($A48,$G:$J,4,0),0) -> 0
A49: SALDO_DEVEDOSuperior a 360 | B49: SALDO_DEVEDOEntre 180 e 360 | C49: =IFERROR(VLOOKUP(#REF!,$G:$J,3,0),0)+IFERROR(VLOOKUP($A49,$G:$J,3,0),0) -> 0 | D49: =IFERROR(VLOOKUP($B49,$G:$J,4,0),0)+IFERROR(VLOOKUP($A49,$G:$J,4,0),0) -> 0
B50: Saldo devedor total: | C50: =SUM(C41:C49) -> 0 | D50: =SUM(D41:D49) -> 0
B56: 3. Inadimplência da Carteira (em dias)
A57: InapimplenciaEm Dia
...

Sheet RESUMO_ACOMPANHAMENTO_MENSAL
A1: Antecipação | B1: Recebimento em Atraso | C1: Recebimento Regular | D1: Saldo_Devedor | E1: LTV | F1: Inadimplencia | G1: Unidades Vendidas | Distratadas | H1: Quantidade | I1: Valor_Vendas | J1: Recebimento_mes | K1: Inadimplencia_mes | L1: Valor Esperado no Mês | M1: qtd_distrato | N1: Valor_distrato | O1: Valor de VP | P1: Valor estoque
A2: =Informacoes_Carteira!G8 -> 0 | B2: ='Relatório Analítico'!D29 -> 0 | C2: =Informacoes_Carteira!C10 -> 0 | D2: ='Relatório Analítico'!D50 -> 0 | E2: 0 | F2: =Informacoes_Carteira!G38 -> 0 | H2: =VENDAS!S1 -> 0 | I2: =VENDAS!T1 -> 0 | J2: =Informacoes_Carteira!C10+Informacoes_Carteira!M10 -> 0 | K2: =Informacoes_Carteira!G32 -> 0 | L2: =SUM(J2:K2) -> 0
A8: =SUM(A2:A4) -> 0 | B8: =SUM(B2:B4) -> 0 | C8: =SUM(C2:C4) -> 0 | E8: =E2 -> 0 | F8: =F2 -> 0 | G8: =G2 -> 0 | H8: =H2 -> 0 | I8: =I2 -> 0 | J8: =J2 -> 0 | K8: =K2 -> 0 | L8: =L2 -> 0 | M8: =M2 -> 0

Sheet INFORME_MENSAL
A1: Mês | B1: ='Relatório Analítico'!B1 -> 45443 | G1: de_para | H1: Mês | M1: TIPO | N1: Valor_MES | O1: Expr1
A2: Créditos Vinculados à Securitização por Prazo de Vencimento | H2: Créditos Vinculados à Securitização por Prazo de Vencimento | M2: TIPO | N2: Valor_MES
A3: Até 30 dias | B3: =I3+K3 -> 0 | G3: Até 30 dias | H3: Até 30 dias | I3: =IFERROR(VLOOKUP(G3,M:N,2,0),0) -> 0 | M3: Até 30 dias | N3: 0 | O3: 05/2023
A4: Entre 30 e 60 dias | B4: =I4 -> 111480.96 | G4: Entre 30 e 60 | H4: Entre 30 e 60 dias | I4: =IFERROR(VLOOKUP(G4,M:N,2,0),0) -> 111480.96 | M4: Em Dia | N4: 0 | O4: 05/2023
A5: Entre 60 e 90 dias | B5: =I5 -> 0 | G5: Entre 60 e 90 | H5: Entre 60 e 90 dias | I5: =IFERROR(VLOOKUP(G5,M:N,2,0),0) -> 0 | M5: Entre 120 e 150 | N5: 0 | O5: 05/2023
A6: Entre 90 e 120 dias | B6: =I6 -> 0 | G6: Entre 90 e 120 | H6: Entre 90 e 120 dias | I6: =IFERROR(VLOOKUP(G6,M:N,2,0),0) -> 0 | M6: Entre 150 e 180 | N6: 0 | O6: 05/2023
A7: Entre 120 e 150 dias | B7: =I7 -> 0 | G7: Entre 120 e 150 | H7: Entre 120 e 150 dias | I7: =IFERROR(VLOOKUP(G7,M:N,2,0),0) -> 0 | M7: Entre 180 e 360 | N7: 28261921 | O7: 05/2023
A8: Entre 150 e 180 dias | B8: =I8 -> 0 | G8: Entre 150 e 180 | H8: Entre 150 e 180 dias | I8: =IFERROR(VLOOKUP(G8,M:N,2,0),0) -> 0 | M8: Entre 30 e 60 | N8: 111480.96 | O8: 05/2023
A9: Entre 180 e 360 dias | B9: =I9 -> 28261921 | G9: Entre 180 e 360 | I9: =IFERROR(VLOOKUP(G9,M:N,2,0),0) -> 28261921 | M9: Entre 60 e 90 | N9: 0 | O9: 05/2023
A10: Superior a 360 dias | B10: =I10 -> 1693399 | G10: Superior a 360 | H10: Superior a 360 | I10: =IFERROR(VLOOKUP(G10,M:N,2,0),0) -> 1693399 | M10: Entre 90 e 120 | N10: 0 | O10: 05/2023
A11: Créditos Inadimplentes Vinculados à Securitização (Valor das Parcelas Inadimplentes) | B11: 0 | H11: Créditos Inadimplentes Vinculados à Securitização (Valor das Parcelas Inadimplentes) | I11: =IFERROR(VLOOKUP(G11,M:N,2,0),0) -> 0 | M11: Pagos Antecipadamente acima de 360 dias | N11: 0 | O11: 05/2023
A12: Vencidos e Não Pagos até 30 dias | B12: =I12 -> 10928.55 | G12: Vencidos e Não Pagos até 30 dias | H12: Vencidos e Não Pagos até 30 dias | I12: =IFERROR(VLOOKUP(G12,M:N,2,0),0) -> 10928.55 | M12: Pagos Antecipadamente até 30 dias | N12: 959.17 | O12: 05/2023
A13: Vencidos e Não Pagos de 31 a 60 dias | B13: =I13 -> 51187.14 | G13: Vencidos e Não Pagos de 31 a 60 dias | H13: Vencidos e Não Pagos de 31 a 60 dias | I13: =IFERROR(VLOOKUP(G13,M:N,2,0),0) -> 51187.14 | M13: Pagos Antecipadamente de 121 a 150 dias | N13: 0 | O13: 05/2023
A14: Vencidos e Não Pagos de 61 a 90 dias | B14: =I14 -> 67270.56 | G14: Vencidos e Não Pagos de 61 a 90 dias | H14: Vencidos e Não Pagos de 61 a 90 dias | I14: =IFERROR(VLOOKUP(G14,M:N,2,0),0) -> 67270.56 | M14: Pagos Antecipadamente de 151 a 180 dias | N14: 0 | O14: 05/2023
A15: Vencidos e Não Pagos de 91 a 120 dias | B15: =I15 -> 15765.38 | G15: Vencidos e Não Pagos de 91 a 120 dias | H15: Vencidos e Não Pagos de 91 a 120 dias | I15: =IFERROR(VLOOKUP(G15,M:N,2,0),0) -> 15765.38 | M15: Pagos Antecipadamente de 181 a 360 dias | N15: 0 | O15: 05/2023
A16: Vencidos e Não Pagos de 121 a 150 dias | B16: =I16 -> 4359.01 | G16: Vencidos e Não Pagos de 121 a 150 dias | H16: Vencidos e Não Pagos de 121 a 150 dias | I16: =IFERROR(VLOOKUP(G16,M:N,2,0),0) -> 4359.01 | M16: Pagos Antecipadamente de 31 a 60 dias | N16: 0 | O16: 05/2023
A17: Vencidos e Não Pagos de 151 a 180 dias | B17: =I17 -> 0 | G17: Vencidos e Não Pagos de 151 a 180 dias | H17: Vencidos e Não Pagos de 151 a 180 dias | I17: =IFERROR(VLOOKUP(G17,M:N,2,0),0) -> 0 | M17: Pagos Antecipadamente de 61 a 90 dias | N17: 0 | O17: 05/2023
A18: Vencidos e Não Pagos de 181 a 360 dias | B18: =I18 -> 5800 | G18: Vencidos e Não pagos de 181 a 360 dias | I18: =IFERROR(VLOOKUP(G18,M:N,2,0),0) -> 5800 | M18: Pagos Antecipadamente de 91 a 120 dias | N18: 0 | O18: 05/2023
A19: Vencidos e Não Pagos acima de 360 dias | B19: =I19 -> 0 | G19: Vencidos e Não Pagos acima de 360 dias | H19: Vencidos e Não Pagos acima de 180 dias | I19: =IFERROR(VLOOKUP(G19,M:N,2,0),0) -> 0 | M19: Recebimento Regular | N19: 0 | O19: 05/2023
A20: Créditos Vinculados à Securitização Pagos Antecipadamente | B20: 0 | H20: Créditos Vinculados à Securitização Pagos Antecipadamente | M20: Superior a 360 | N20: 1693399 | O20: 05/2023
A21: Pagos Antecipadamente até 30 dias do Vencimento | B21: =I21 -> 959.17 | G21: Pagos Antecipadamente até 30 dias | H21: Pagos Antecipadamente até 30 dias do Vencimento | I21: =IFERROR(VLOOKUP(G21,M:N,2,0),0) -> 959.17 | M21: Vencidos e Não Pagos acima de 360 dias | N21: 0 | O21: 05/2023
A22: Pagos Antecipadamente entre 31 e 60 dias do Vencimento | B22: =I22 -> 0 | G22: Pagos Antecipadamente de 31 a 60 dias | H22: Pagos Antecipadamente entre 31 e 60 dias do Vencimento | I22: =IFERROR(VLOOKUP(G22,M:N,2,0),0) -> 0 | M22: Vencidos e Não pagos até 30 dias | N22: 10928.55 | O22: 05/2023
A23: Pagos Antecipadamente entre 61 e 90 dias do Vencimento | B23: =I23 -> 0 | G23: Pagos Antecipadamente de 61 a 90 dias | H23: Pagos Antecipadamente entre 61 e 90 dias do Vencimento | I23: =IFERROR(VLOOKUP(G23,M:N,2,0),0) -> 0 | M23: Vencidos e Não pagos de 121 a 150 dias | N23: 4359.01 | O23: 05/2023
A24: Pagos Antecipadamente entre 91 e 120 dias do Vencimento | B24: =I24 -> 0 | G24: Pagos Antecipadamente de 91 a 120 dias | H24: Pagos Antecipadamente entre 91 e 120 dias do Vencimento | I24: =IFERROR(VLOOKUP(G24,M:N,2,0),0) -> 0 | M24: Vencidos e Não pagos de 151 a 180 dias | N24: 0 | O24: 05/2023
A25: Pagos Antecipadamente entre 121 e 150 dias do Vencimento | B25: =I25 -> 0 | G25: Pagos Antecipadamente de 121 a 150 dias | H25: Pagos Antecipadamente entre 121 e 150 dias do Vencimento | I25: =IFERROR(VLOOKUP(G25,M:N,2,0),0) -> 0 | M25: Vencidos e Não pagos de 181 a 360 dias | N25: 5800 | O25: 05/2023
A26: Pagos Antecipadamente entre 151 e 180 dias do Vencimento | B26: =I26 -> 0 | G26: Pagos Antecipadamente de 151 a 180 dias | H26: Pagos Antecipadamente entre 151 e 180 dias do Vencimento | I26: =IFERROR(VLOOKUP(G26,M:N,2,0),0) -> 0 | M26: Vencidos e Não pagos de 31 a 60 dias | N26: 51187.14 | O26: 05/2023
A27: Pagos Antecipadamente entre 181 e 360 dias do Vencimento | B27: =I27 -> 0 | G27: Pagos Antecipadamente de 181 a 360 dias | I27: =IFERROR(VLOOKUP(G27,M:N,2,0),0) -> 0 | M27: Vencidos e Não pagos de 61 a 90 dias | N27: 67270.56 | O27: 05/2023
A28: Pagos Antecipadamente antes de 360 dias do Vencimento | B28: =I28 -> 0 | G28: Pagos Antecipadamente acima de 360 dias | H28: Pagos Antecipadamente antes de 180 dias do Vencimento | I28: =IFERROR(VLOOKUP(G28,M:N,2,0),0) -> 0 | M28: Vencidos e Não pagos de 91 a 120 dias | N28: 15765.38 | O28: 05/2023
O29: 05/2023
O30: 05/2023
O31: 05/2023
O32: 05/2023

Sheet Acompanhamento Vendas
B1: Acompanhamento Vendas | V1: 60000
B24: Venda de Unidades por mês
D25: Unidades vendidas | E25: Valor vendido | F25: Unidades de distrato | G25: Valor de distrato | H25: Estoque | I25: Valor do estoque
B26: 44927
B27: 44958
B28: 44986
B29: 45017
B30: 45047
B31: 45078
B32: 45108
B33: 45139
B34: 45170
B35: 45200
B36: 45231
B37: 45261
... B50: 45689
B51: Total | D51: =+SUM(D26:D50) -> 0 | E51: =+SUM(E26:E50) -> 0 | F51: =+SUM(F26:F50) -> 0 | G51: =+SUM(G26:G50) -> 0 | H51: =H43 -> 0 | I51: =I43 -> 0

Sheet ATRASO
A1: Contrato | B1: Cliente | C1: Atraso | D1: N Parcela Inadimplencia | E1: Valor Corrigido | F1: Valor Original | G1: Mes_vect_original | H1: Ano_Vcto_original | I1: Data_FECHAMENTO_1 | J1: Ano_fechamento | K1: Data_FLUXO | L1: Mes_FECHAMENTO | M1: Classificacao | N1: status | O1: Data_vcto_parcela

Sheet RECEBIMENTO
A1: Contrato | B1: N° Parcela | C1: Valor pago | D1: Data de pagamento | E1: Data_vcto | F1: Data de vencimento original | G1: Cliente | H1: Empresa | I1: banco | J1: lastroGarantia | K1: DATA_VENCIMENTO_1 | L1: DATA_PGTO_1 | M1: Atraso | N1: Tipo | O1: Faixa | P1: Faixa_Num | Q1: Chave

Sheet VENDAS
A1: Contrato | B1: Status | C1: CPF / CNPJ | D1: Cliente | E1: Data Última Parcela | F1: Data Formalização | G1: Valor do Contrato | H1: dataCancelamento | I1: Data_FECHAMENTO_1 | J1: Data_Ultima_Parcela | K1: Data_VENDA | L1: Data de Formalização | M1: Ano | N1: dt_venda | O1: dt_distrato | R1: =I2 -> 0 | S1: =COUNTIF(K:K,$R$1>0) -> 0 | T1: =SUMIFS($G:$G,K:K,$R$1) -> 0 | U1: =COUNTIF(H:H,$R$1>0) -> 0 | V1: =SUMIFS($G:$G,H:H,$R$1) -> 0
N168: =IF($B168="ativo",$K168,0) -> 0 | O168: =IF($B168="distratado",$K168,0) -> 0
N169: =IF($B169="ativo",$K169,0) -> 0 | O169: =IF($B169="distratado",$K169,0) -> 0
N170: =IF($B170="ativo",$K170,0) -> 0 | O170: =IF($B170="distratado",$K170,0) -> 0
N171: =IF($B171="ativo",$K171,0) -> 0 | O171: =IF($B171="distratado",$K171,0) -> 0
N172: =IF($B172="ativo",$K172,0) -> 0 | O172: =IF($B172="distratado",$K172,0) -> 0
N173: =IF($B173="ativo",$K173,0) -> 0 | O173: =IF($B173="distratado",$K173,0) -> 0
N174: =IF($B174="ativo",$K174,0) -> 0 | O174: =IF($B174="distratado",$K174,0) -> 0
N175: =IF($B175="ativo",$K175,0) -> 0 | O175: =IF($B175="distratado",$K175,0) -> 0
N176: =IF($B176="ativo",$K176,0) -> 0 | O176: =IF($B176="distratado",$K176,0) -> 0
N177: =IF($B177="ativo",$K177,0) -> 0 | O177: =IF($B177="distratado",$K177,0) -> 0
N178: =IF($B178="ativo",$K178,0) -> 0 | O178: =IF($B178="distratado",$K178,0) -> 0
N179: =IF($B179="ativo",$K179,0) -> 0 | O179: =IF($B179="distratado",$K179,0) -> 0
... N702: =IF($B702="ativo",$K702,0) -> 0 | O702: =IF($B702="distratado",$K702,0) -> 0

Sheet FLUXO_FUTURO
A1: Contrato | B1: Cliente | C1: Valor do Contrato | D1: Parcelas Inadimplentes | E1: Inadimplencia | F1: Dias Atraso | G1: Faixa Atraso | H1: Data_Ultima_Parcela | I1: VP | J1: SALDO_DEVEDOR | K1: LTV | L1: Data_FECHAMENTO | M1: Status | N1: =SUMPRODUCT(J2:J1190,K2:K1190)/SUM(J2:J1190) -> #DIV/0!
